BEGIN:VCALENDAR
VERSION:2.0
PRODID:-//My Calendar//http://www.joedolson.com//v3.2.9//EN
METHOD:PUBLISH
CALSCALE:GREGORIAN
X-WR-CALNAME:中学受験・高校受験・大学受験専門塾 倉敷市 ピタゴラス進学塾
X-PUBLISHED-TTL:PT24H
REFRESH-INTERVAL;VALUE=DURATION:PT24H
X-WR-CALDESC:中学受験・高校受験・大学受験専門塾 倉敷市 ピタゴラス進学塾のイベント
BEGIN:VEVENT
UID:1-1
LOCATION:
SUMMARY:数学検定・算数検定
DTSTAMP:20201017T000000
ORGANIZER;CN=pitagorasshingakujyukucom:MAILTO:data@chiroro.co.jp
DTSTART;TZID=Asia/Tokyo:20201017T000000
DTEND;TZID=Asia/Tokyo:20201018T000000
URL;VALUE=URI:http://www.pitagoras-shingakujyuku.com/my-calendar/
DESCRIPTION:数学検定・算数検定を実施します。 
CATEGORIES:kentei
X-FUNAMBOL-ALLDAY: 1
X-MICROSOFT-CDO-ALLDAYEVENT: TRUE

END:VEVENT
END:VCALENDAR